BEGIN:VCALENDAR
VERSION:2.0
PRODID:-//Tukios.com/
BEGIN:VEVENT
UID:e5ae3eb3-e14c-48fb-a5b1-e0f27d27c89a@www.huxlipfordfh.com
DTSTAMP:20260421T082230Z
DTSTART:20260304T180000Z
DTEND:20260304T190000Z
SUMMARY:Visitation
DESCRIPTION:
URL:https://www.huxlipfordfh.com/obituaries/anna-stout
LOCATION:Hux & Lipford Funeral Home 300 W Main St  Mountain City TN 37683
GEO:36.4754968;-81.806765
END:VEVENT
END:VCALENDAR