BEGIN:VCALENDAR
VERSION:2.0
PRODID:-//Tukios.com/
BEGIN:VEVENT
UID:2be6ec7d-53f2-4e66-81cf-c7b9ba5322bd@www.huxlipfordfh.com
DTSTAMP:20260423T191313Z
DTSTART:20260423T180000Z
DTEND:20260423T190000Z
SUMMARY:Graveside Service
DESCRIPTION:
URL:https://www.huxlipfordfh.com/obituaries/betty-cress-phillippi
LOCATION:Phillippi Cemetery Mountain City, Tennessee  Mountain City TN 
	37683
GEO:36.4745636;-81.804838
END:VEVENT
END:VCALENDAR