BEGIN:VCALENDAR
VERSION:2.0
PRODID:-//Tukios.com/
BEGIN:VEVENT
UID:ddd949ce-9f3e-4a20-8545-6ac7bde4c2fc@www.huxlipfordfh.com
DTSTAMP:20260423T191152Z
DTSTART:20260516T220000Z
DTEND:20260516T230000Z
SUMMARY:Memorial Service
DESCRIPTION:
URL:https://www.huxlipfordfh.com/obituaries/wesley-allen
LOCATION: 329 Honeysuckle Street  Mountain City TN 37683
GEO:36.4684404;-81.801811
END:VEVENT
END:VCALENDAR